BEGIN:VCALENDAR
VERSION:2.0
PRODID:-//wp-events-plugin.com//7.2.3.1//EN
BEGIN:VEVENT
UID:11@vintagehomeshow.co.uk
DTSTART;VALUE=DATE:20260919
DTEND;VALUE=DATE:20260920
DTSTAMP:20251211T112417Z
URL:https://www.vintagehomeshow.co.uk/eventmanager/london-primrose-hill-2/
SUMMARY:London - Primrose Hill
DESCRIPTION:St Mary’s Church\, Elsworthy Road\, Primrose Hill\, NW3 3DJ\n
 \n27 exhibitors\,\nStandard Admission\n11am – 3.30pm:   £4\nEarly Bir
 d Admission\n10.00am – 11am:  £6\nUnder 16s go free\nVenue Info
LOCATION:London - Primrose Hill\, St Mary’s Church\, Elsworthy Road\, Pri
 mrose Hill\, London\, NW3 3DJ\, United Kingdom
X-APPLE-STRUCTURED-LOCATION;VALUE=URI;X-ADDRESS=St Mary’s Church\, Elswor
 thy Road\, Primrose Hill\, London\, NW3 3DJ\, United Kingdom;X-APPLE-RADIU
 S=100;X-TITLE=London - Primrose Hill:geo:0,0
END:VEVENT
END:VCALENDAR